BEGIN:VCALENDAR
VERSION:2.0
PRODID:-//Marietta Cobb Museum of Art - ECPv6.15.16//NONSGML v1.0//EN
CALSCALE:GREGORIAN
METHOD:PUBLISH
X-ORIGINAL-URL:https://mariettacobbartmuseum.org
X-WR-CALDESC:Events for Marietta Cobb Museum of Art
REFRESH-INTERVAL;VALUE=DURATION:PT1H
X-Robots-Tag:noindex
X-PUBLISHED-TTL:PT1H
BEGIN:VTIMEZONE
TZID:America/Halifax
BEGIN:DAYLIGHT
TZOFFSETFROM:-0400
TZOFFSETTO:-0300
TZNAME:ADT
DTSTART:20250309T060000
END:DAYLIGHT
BEGIN:STANDARD
TZOFFSETFROM:-0300
TZOFFSETTO:-0400
TZNAME:AST
DTSTART:20251102T050000
END:STANDARD
BEGIN:DAYLIGHT
TZOFFSETFROM:-0400
TZOFFSETTO:-0300
TZNAME:ADT
DTSTART:20260308T060000
END:DAYLIGHT
BEGIN:STANDARD
TZOFFSETFROM:-0300
TZOFFSETTO:-0400
TZNAME:AST
DTSTART:20261101T050000
END:STANDARD
BEGIN:DAYLIGHT
TZOFFSETFROM:-0400
TZOFFSETTO:-0300
TZNAME:ADT
DTSTART:20270314T060000
END:DAYLIGHT
BEGIN:STANDARD
TZOFFSETFROM:-0300
TZOFFSETTO:-0400
TZNAME:AST
DTSTART:20271107T050000
END:STANDARD
END:VTIMEZONE
BEGIN:VEVENT
DTSTART;TZID=America/Halifax:20260817T000000
DTEND;TZID=America/Halifax:20260920T000000
DTSTAMP:20260422T190729
CREATED:20251231T160825Z
LAST-MODIFIED:20260106T181014Z
UID:11366-1786924800-1789862400@mariettacobbartmuseum.org
SUMMARY:Studio Art Classes - Session 4 (5 week block)
DESCRIPTION:MCMA Education Department is proud to offer Studio Art Classes for all ages and skill levels. MCMA Studio Art Classes are taught by professional Teaching Artists who are uniquely skilled in their respective mediums. With teachers specializing in a wide variety of mediums and styles\, there’s a Studio Art Class For everyone! \nMore Information : Studio Art Classes – Marietta Cobb Museum of Art
URL:https://mariettacobbartmuseum.org/event/studio-art-classes-session-4-5-week-block
CATEGORIES:Classes
END:VEVENT
BEGIN:VEVENT
DTSTART;TZID=America/Halifax:20260904T080000
DTEND;TZID=America/Halifax:20260904T170000
DTSTAMP:20260422T190729
CREATED:20260326T174835Z
LAST-MODIFIED:20260326T174835Z
UID:12370-1788508800-1788541200@mariettacobbartmuseum.org
SUMMARY:Heritage Craft Circle
DESCRIPTION:Join MCMA’s Heritage Craft Circle on selelct Fridays from 5pm to 7pm. Crafters will be able to drop in and work on their personal craft project (crafts like crochet\, knitting\, hand sewing\, quilting\, felting\, etc).  We will have an experienced artist hosting our monthly featured craft on hand to help answer any question that attendees may have. Crafters must bring their own supplies. All attendees must pay a Museum admission fee. \nView our featured craft schedule here.
URL:https://mariettacobbartmuseum.org/event/heritage-craft-circle-4
LOCATION:Marietta Cobb Museum of Art\, 30 Atlanta Street\, SE\, Marietta\, 30060\, United States
ATTACH;FMTTYPE=image/png:https://mariettacobbartmuseum.org/wp-content/uploads/2026/03/Heritage-Craft-Circle-at-MCMA.png
END:VEVENT
BEGIN:VEVENT
DTSTART;TZID=America/Halifax:20260906T110000
DTEND;TZID=America/Halifax:20260906T160000
DTSTAMP:20260422T190729
CREATED:20251231T153103Z
LAST-MODIFIED:20260204T151408Z
UID:11333-1788692400-1788710400@mariettacobbartmuseum.org
SUMMARY:Free Sunday
DESCRIPTION:We offer the first Sunday free to the public as one of many ways we strive to reach our goal. \nVisitors can create an art piece to take home.  This art piece will\, when possible\, allow the student to apply a technique used by the artists in the creation of the exhibition.
URL:https://mariettacobbartmuseum.org/event/free-sunday-6
CATEGORIES:Free Sunday
END:VEVENT
BEGIN:VEVENT
DTSTART;TZID=America/Halifax:20260913T170000
DTEND;TZID=America/Halifax:20260913T190000
DTSTAMP:20260422T190729
CREATED:20260204T192736Z
LAST-MODIFIED:20260204T192736Z
UID:11820-1789318800-1789326000@mariettacobbartmuseum.org
SUMMARY:Open Draw - Clothed Model - September 13
DESCRIPTION:Practice your figure drawing skills and draw from a live model in a variety of poses. We alternate between male and female models of all body types. Sessions are held on select Sundays from 5pm to 7pm.  \n\n\n\n\n\nRegistration closes at 4pm on the Friday before each session starts. Online pre-registration is strongly encouraged. $12 per participant when paid in advance online\, $17 per participant when paid in person onsite (pending availability).\n\n\n\n\n\n\nEnroll Here\n 
URL:https://mariettacobbartmuseum.org/event/open-draw-clothed-model-september-13
LOCATION:Marietta Cobb Museum of Art\, 30 Atlanta Street\, SE\, Marietta\, 30060\, United States
CATEGORIES:Open Draw
ATTACH;FMTTYPE=image/png:https://mariettacobbartmuseum.org/wp-content/uploads/2024/09/R-Open-Draw.png
END:VEVENT
BEGIN:VEVENT
DTSTART;TZID=America/Halifax:20260926T180000
DTEND;TZID=America/Halifax:20260926T200000
DTSTAMP:20260422T190729
CREATED:20251231T151229Z
LAST-MODIFIED:20260204T151321Z
UID:11310-1790445600-1790452800@mariettacobbartmuseum.org
SUMMARY:Opening Night Reception
DESCRIPTION:MCMA celebrates the opening of each exhibition by hosting an Opening Reception. \nThe fun begins at 6:00 –  8:00 pm.  Admission is $10 and purchased at the door.  Admission for members is free as a benefit.
URL:https://mariettacobbartmuseum.org/event/opening-night-reception-4
CATEGORIES:Opening Night
END:VEVENT
BEGIN:VEVENT
DTSTART;TZID=America/Halifax:20261002T170000
DTEND;TZID=America/Halifax:20261002T190000
DTSTAMP:20260422T190729
CREATED:20260326T175041Z
LAST-MODIFIED:20260326T175041Z
UID:12372-1790960400-1790967600@mariettacobbartmuseum.org
SUMMARY:Heritage Craft Circle
DESCRIPTION:Join MCMA’s Heritage Craft Circle on selelct Fridays from 5pm to 7pm. Crafters will be able to drop in and work on their personal craft project (crafts like crochet\, knitting\, hand sewing\, quilting\, felting\, etc).  We will have an experienced artist hosting our monthly featured craft on hand to help answer any question that attendees may have. Crafters must bring their own supplies. All attendees must pay a Museum admission fee. \nView our featured craft schedule here.
URL:https://mariettacobbartmuseum.org/event/heritage-craft-circle-5
LOCATION:Marietta Cobb Museum of Art\, 30 Atlanta Street\, SE\, Marietta\, 30060\, United States
ATTACH;FMTTYPE=image/png:https://mariettacobbartmuseum.org/wp-content/uploads/2026/03/Heritage-Craft-Circle-at-MCMA.png
END:VEVENT
BEGIN:VEVENT
DTSTART;TZID=America/Halifax:20261004T110000
DTEND;TZID=America/Halifax:20261004T160000
DTSTAMP:20260422T190729
CREATED:20251231T153151Z
LAST-MODIFIED:20260204T151229Z
UID:11335-1791111600-1791129600@mariettacobbartmuseum.org
SUMMARY:Free Sunday
DESCRIPTION:We offer the first Sunday free to the public as one of many ways we strive to reach our goal. \nVisitors can create an art piece to take home.  This art piece will\, when possible\, allow the student to apply a technique used by the artists in the creation of the exhibition.
URL:https://mariettacobbartmuseum.org/event/free-sunday-7
CATEGORIES:Free Sunday
END:VEVENT
BEGIN:VEVENT
DTSTART;TZID=America/Halifax:20261018T170000
DTEND;TZID=America/Halifax:20261018T190000
DTSTAMP:20260422T190729
CREATED:20260204T192910Z
LAST-MODIFIED:20260414T180928Z
UID:11822-1792342800-1792350000@mariettacobbartmuseum.org
SUMMARY:Open Draw - Nude Model - October 18
DESCRIPTION:Practice your figure drawing skills and draw from a live model in a variety of poses. We alternate between male and female models of all body types. Sessions are held on select Sundays from 5pm to 7pm. Please note that nude model sessions are strictly for ages 18 and up.  \n\n\n\n\n\nRegistration closes at 4pm on the Friday before each session starts. Online pre-registration is strongly encouraged. $12 per participant when paid in advance online\, $17 per participant when paid in person onsite (pending availability).\n\n\n\n\n\n\nEnroll Here\n 
URL:https://mariettacobbartmuseum.org/event/open-draw-nude-model-october-25
LOCATION:Marietta Cobb Museum of Art\, 30 Atlanta Street\, SE\, Marietta\, 30060\, United States
CATEGORIES:Open Draw
ATTACH;FMTTYPE=image/png:https://mariettacobbartmuseum.org/wp-content/uploads/2024/09/R-Open-Draw.png
END:VEVENT
BEGIN:VEVENT
DTSTART;TZID=America/Halifax:20261019T000000
DTEND;TZID=America/Halifax:20261120T000000
DTSTAMP:20260422T190729
CREATED:20251231T161025Z
LAST-MODIFIED:20260106T182636Z
UID:11368-1792368000-1795132800@mariettacobbartmuseum.org
SUMMARY:Studio Art Classes - Session 5 (5 week block)
DESCRIPTION:MCMA Education Department is proud to offer Studio Art Classes for all ages and skill levels. MCMA Studio Art Classes are taught by professional Teaching Artists who are uniquely skilled in their respective mediums. With teachers specializing in a wide variety of mediums and styles\, there’s a Studio Art Class For everyone! \nMore Information : Studio Art Classes – Marietta Cobb Museum of Art
URL:https://mariettacobbartmuseum.org/event/studio-art-classes-session-5-5-week-block
CATEGORIES:Classes
END:VEVENT
BEGIN:VEVENT
DTSTART;TZID=America/Halifax:20261101T110000
DTEND;TZID=America/Halifax:20261101T160000
DTSTAMP:20260422T190729
CREATED:20251231T153234Z
LAST-MODIFIED:20260204T151059Z
UID:11337-1793530800-1793548800@mariettacobbartmuseum.org
SUMMARY:Free Sunday
DESCRIPTION:We offer the first Sunday free to the public as one of many ways we strive to reach our goal. \nVisitors can create an art piece to take home.  This art piece will\, when possible\, allow the student to apply a technique used by the artists in the creation of the exhibition.
URL:https://mariettacobbartmuseum.org/event/free-sunday-8
CATEGORIES:Free Sunday
END:VEVENT
BEGIN:VEVENT
DTSTART;TZID=America/Halifax:20261106T170000
DTEND;TZID=America/Halifax:20261106T190000
DTSTAMP:20260422T190729
CREATED:20260326T175540Z
LAST-MODIFIED:20260326T175540Z
UID:12374-1793984400-1793991600@mariettacobbartmuseum.org
SUMMARY:Heritage Craft Circle
DESCRIPTION:Join MCMA’s Heritage Craft Circle on selelct Fridays from 5pm to 7pm. Crafters will be able to drop in and work on their personal craft project (crafts like crochet\, knitting\, hand sewing\, quilting\, felting\, etc).  We will have an experienced artist hosting our monthly featured craft on hand to help answer any question that attendees may have. Crafters must bring their own supplies. All attendees must pay a Museum admission fee. \nView our featured craft schedule here.
URL:https://mariettacobbartmuseum.org/event/heritage-craft-circle-6
LOCATION:Marietta Cobb Museum of Art\, 30 Atlanta Street\, SE\, Marietta\, 30060\, United States
ATTACH;FMTTYPE=image/png:https://mariettacobbartmuseum.org/wp-content/uploads/2026/03/Heritage-Craft-Circle-at-MCMA.png
END:VEVENT
BEGIN:VEVENT
DTSTART;TZID=America/Halifax:20261113T180000
DTEND;TZID=America/Halifax:20261113T200000
DTSTAMP:20260422T190729
CREATED:20251231T151848Z
LAST-MODIFIED:20260204T151018Z
UID:11319-1794592800-1794600000@mariettacobbartmuseum.org
SUMMARY:Art of the Cocktail
DESCRIPTION:Enjoy a specialty cocktail and the full bar offerings in the MCMA galleries and listen to great live music. Hor d’oeuvres presented by Carriage House Catering.  Admission is purchased at the door. \n6:00-8:00pm \nAdmission $10 | Members Get in Free
URL:https://mariettacobbartmuseum.org/event/art-of-the-cocktail-4
CATEGORIES:Art of The Cocktail
END:VEVENT
BEGIN:VEVENT
DTSTART;TZID=America/Halifax:20261115T170000
DTEND;TZID=America/Halifax:20261115T190000
DTSTAMP:20260422T190729
CREATED:20260204T193213Z
LAST-MODIFIED:20260204T193213Z
UID:11824-1794762000-1794769200@mariettacobbartmuseum.org
SUMMARY:Open Draw - Still Life - November 15
DESCRIPTION:Practice your still life drawing skills and draw from a curated scene in a variety of posistions. Sessions are held on select Sundays from 5pm to 7pm. \nRegistration closes at 4pm on the Friday before each session starts. Online pre-registration is strongly encouraged. $12 per participant when paid in advance online\, $17 per participant when paid in person onsite (pending availability) \nEnroll Here
URL:https://mariettacobbartmuseum.org/event/open-draw-still-life-november-15
LOCATION:Marietta Cobb Museum of Art\, 30 Atlanta Street\, SE\, Marietta\, 30060\, United States
CATEGORIES:Open Draw
ATTACH;FMTTYPE=image/png:https://mariettacobbartmuseum.org/wp-content/uploads/2024/09/R-Open-Draw.png
END:VEVENT
BEGIN:VEVENT
DTSTART;TZID=America/Halifax:20261204T170000
DTEND;TZID=America/Halifax:20261204T190000
DTSTAMP:20260422T190729
CREATED:20260326T180528Z
LAST-MODIFIED:20260326T180528Z
UID:12376-1796403600-1796410800@mariettacobbartmuseum.org
SUMMARY:Heritage Craft Circle
DESCRIPTION:Join MCMA’s Heritage Craft Circle on selelct Fridays from 5pm to 7pm. Crafters will be able to drop in and work on their personal craft project (crafts like crochet\, knitting\, hand sewing\, quilting\, felting\, etc).  We will have an experienced artist hosting our monthly featured craft on hand to help answer any question that attendees may have. Crafters must bring their own supplies. All attendees must pay a Museum admission fee. \nView our featured craft schedule here.
URL:https://mariettacobbartmuseum.org/event/heritage-craft-circle-7
LOCATION:Marietta Cobb Museum of Art\, 30 Atlanta Street\, SE\, Marietta\, 30060\, United States
ATTACH;FMTTYPE=image/png:https://mariettacobbartmuseum.org/wp-content/uploads/2026/03/Heritage-Craft-Circle-at-MCMA.png
END:VEVENT
BEGIN:VEVENT
DTSTART;TZID=America/Halifax:20261206T110000
DTEND;TZID=America/Halifax:20261206T160000
DTSTAMP:20260422T190729
CREATED:20251231T153318Z
LAST-MODIFIED:20260204T150750Z
UID:11339-1796554800-1796572800@mariettacobbartmuseum.org
SUMMARY:Free Sunday
DESCRIPTION:We offer the first Sunday free to the public as one of many ways we strive to reach our goal. \nVisitors can create an art piece to take home.  This art piece will\, when possible\, allow the student to apply a technique used by the artists in the creation of the exhibition.
URL:https://mariettacobbartmuseum.org/event/free-sunday-9
CATEGORIES:Free Sunday
END:VEVENT
END:VCALENDAR