BEGIN:VCALENDAR
VERSION:2.0
PRODID:-//Marietta Cobb Museum of Art - ECPv6.15.16//NONSGML v1.0//EN
CALSCALE:GREGORIAN
METHOD:PUBLISH
X-WR-CALNAME:Marietta Cobb Museum of Art
X-ORIGINAL-URL:https://mariettacobbartmuseum.org
X-WR-CALDESC:Events for Marietta Cobb Museum of Art
REFRESH-INTERVAL;VALUE=DURATION:PT1H
X-Robots-Tag:noindex
X-PUBLISHED-TTL:PT1H
BEGIN:VTIMEZONE
TZID:America/Halifax
BEGIN:DAYLIGHT
TZOFFSETFROM:-0400
TZOFFSETTO:-0300
TZNAME:ADT
DTSTART:20250309T060000
END:DAYLIGHT
BEGIN:STANDARD
TZOFFSETFROM:-0300
TZOFFSETTO:-0400
TZNAME:AST
DTSTART:20251102T050000
END:STANDARD
BEGIN:DAYLIGHT
TZOFFSETFROM:-0400
TZOFFSETTO:-0300
TZNAME:ADT
DTSTART:20260308T060000
END:DAYLIGHT
BEGIN:STANDARD
TZOFFSETFROM:-0300
TZOFFSETTO:-0400
TZNAME:AST
DTSTART:20261101T050000
END:STANDARD
BEGIN:DAYLIGHT
TZOFFSETFROM:-0400
TZOFFSETTO:-0300
TZNAME:ADT
DTSTART:20270314T060000
END:DAYLIGHT
BEGIN:STANDARD
TZOFFSETFROM:-0300
TZOFFSETTO:-0400
TZNAME:AST
DTSTART:20271107T050000
END:STANDARD
END:VTIMEZONE
BEGIN:VEVENT
DTSTART;TZID=America/Halifax:20260411T180000
DTEND;TZID=America/Halifax:20260720T200000
DTSTAMP:20260423T002435
CREATED:20251231T151004Z
LAST-MODIFIED:20260204T152508Z
UID:11306-1775930400-1784577600@mariettacobbartmuseum.org
SUMMARY:Opening Night Reception
DESCRIPTION:MCMA celebrates the opening of each exhibition by hosting an Opening Reception. \nThe fun begins at 6:00 –  8:00 pm.  Admission is $10 and purchased at the door.  Admission for members is free as a benefit.
URL:https://mariettacobbartmuseum.org/event/opening-night-reception-2
CATEGORIES:Opening Night
END:VEVENT
BEGIN:VEVENT
DTSTART;TZID=America/Halifax:20260601T100000
DTEND;TZID=America/Halifax:20260605T150000
DTSTAMP:20260423T002435
CREATED:20260106T175133Z
LAST-MODIFIED:20260106T175133Z
UID:11374-1780308000-1780671600@mariettacobbartmuseum.org
SUMMARY:Summer Break Camp - Teen Camp
DESCRIPTION:Immerse your budding artist in an exciting week of creativity at MCMA’s Art Camp. With half the day dedicated to exploring 2D mediums like pastel\, charcoal\, pencil\, marker\, collage\, watercolor\, and acrylics\, and the other half delving into 3D creations with clay and hand-building techniques\, their art skills will soar. \nOur camps are staffed by professional teaching artists\, paraprofessionals\, and supportive teen assistants\, ensuring personalized attention. Classes are also divided by age with 7-9 years old in one class and 10-12 years old in the other. Running from 9 am to 3 pm\, the schedule includes a 30-minute lunch break and two snack breaks. \nEach week of camp brings a unique learning curriculum\, ensuring a constant feed of fresh inspiration for multiple weeks of registration. Plus\, there are no hidden costs – all art supplies and kiln firing are included in the camp fee. \nPlease note that this is a full week class. There are no partial registrations. \nEnroll Here : Camps – Marietta Cobb Museum of Art
URL:https://mariettacobbartmuseum.org/event/summer-break-camp-teen-camp
LOCATION:Marietta Cobb Museum of Art\, 30 Atlanta Street\, SE\, Marietta\, 30060\, United States
CATEGORIES:Camps
END:VEVENT
BEGIN:VEVENT
DTSTART;TZID=America/Halifax:20260607T110000
DTEND;TZID=America/Halifax:20260607T160000
DTSTAMP:20260423T002435
CREATED:20251231T152816Z
LAST-MODIFIED:20260204T151826Z
UID:11329-1780830000-1780848000@mariettacobbartmuseum.org
SUMMARY:Free Sunday
DESCRIPTION:We offer the first Sunday free to the public as one of many ways we strive to reach our goal. \nVisitors can create an art piece to take home.  This art piece will\, when possible\, allow the student to apply a technique used by the artists in the creation of the exhibition.
URL:https://mariettacobbartmuseum.org/event/free-sunday-4
CATEGORIES:Free Sunday
END:VEVENT
BEGIN:VEVENT
DTSTART;VALUE=DATE:20260608
DTEND;VALUE=DATE:20260613
DTSTAMP:20260423T002435
CREATED:20251231T155043Z
LAST-MODIFIED:20260212T190417Z
UID:11347-1780876800-1781308799@mariettacobbartmuseum.org
SUMMARY:Summer Break Camp
DESCRIPTION:Immerse your budding artist in an exciting week of creativity at MCMA’s Art Camp. With half the day dedicated to exploring 2D mediums like pastel\, charcoal\, pencil\, marker\, collage\, watercolor\, and acrylics\, and the other half delving into 3D creations with clay and hand-building techniques\, their art skills will soar. \nOur camps are staffed by professional teaching artists\, paraprofessionals\, and supportive teen assistants\, ensuring personalized attention. Classes are also divided by age with 7-9 years old in one class and 10-12 years old in the other. Running from 9 am to 3 pm\, the schedule includes a 30-minute lunch break and two snack breaks. \nEach week of camp brings a unique learning curriculum\, ensuring a constant feed of fresh inspiration for multiple weeks of registration. Plus\, there are no hidden costs – all art supplies and kiln firing are included in the camp fee. \nPlease note that this is a full week class. There are no partial registrations. \nEnroll Here : Camps – Marietta Cobb Museum of Art
URL:https://mariettacobbartmuseum.org/event/summer-break-camp
CATEGORIES:Camps
END:VEVENT
BEGIN:VEVENT
DTSTART;VALUE=DATE:20260615
DTEND;VALUE=DATE:20260620
DTSTAMP:20260423T002435
CREATED:20251231T155203Z
LAST-MODIFIED:20260212T190536Z
UID:11349-1781481600-1781913599@mariettacobbartmuseum.org
SUMMARY:Summer Break Camp
DESCRIPTION:Immerse your budding artist in an exciting week of creativity at MCMA’s Art Camp. With half the day dedicated to exploring 2D mediums like pastel\, charcoal\, pencil\, marker\, collage\, watercolor\, and acrylics\, and the other half delving into 3D creations with clay and hand-building techniques\, their art skills will soar. \nOur camps are staffed by professional teaching artists\, paraprofessionals\, and supportive teen assistants\, ensuring personalized attention. Classes are also divided by age with 7-9 years old in one class and 10-12 years old in the other. Running from 9 am to 3 pm\, the schedule includes a 30-minute lunch break and two snack breaks. \nEach week of camp brings a unique learning curriculum\, ensuring a constant feed of fresh inspiration for multiple weeks of registration. Plus\, there are no hidden costs – all art supplies and kiln firing are included in the camp fee. \nPlease note that this is a full week class. There are no partial registrations. \nEnroll Here : Camps – Marietta Cobb Museum of Art
URL:https://mariettacobbartmuseum.org/event/summer-break-camp-2
CATEGORIES:Camps
END:VEVENT
BEGIN:VEVENT
DTSTART;VALUE=DATE:20260622
DTEND;VALUE=DATE:20260627
DTSTAMP:20260423T002435
CREATED:20251231T155321Z
LAST-MODIFIED:20260212T191113Z
UID:11351-1782086400-1782518399@mariettacobbartmuseum.org
SUMMARY:Summer Break Camp
DESCRIPTION:Immerse your budding artist in an exciting week of creativity at MCMA’s Art Camp. With half the day dedicated to exploring 2D mediums like pastel\, charcoal\, pencil\, marker\, collage\, watercolor\, and acrylics\, and the other half delving into 3D creations with clay and hand-building techniques\, their art skills will soar. \nOur camps are staffed by professional teaching artists\, paraprofessionals\, and supportive teen assistants\, ensuring personalized attention. Classes are also divided by age with 7-9 years old in one class and 10-12 years old in the other. Running from 9 am to 3 pm\, the schedule includes a 30-minute lunch break and two snack breaks. \nEach week of camp brings a unique learning curriculum\, ensuring a constant feed of fresh inspiration for multiple weeks of registration. Plus\, there are no hidden costs – all art supplies and kiln firing are included in the camp fee. \nPlease note that this is a full week class. There are no partial registrations. \nEnroll Here : Camps – Marietta Cobb Museum of Art
URL:https://mariettacobbartmuseum.org/event/summer-break-camp-3
CATEGORIES:Camps
END:VEVENT
END:VCALENDAR